BEGIN:VCALENDAR
VERSION:2.0
PRODID:-//kyohatsu//JP
CALSCALE:GREGORIAN
BEGIN:VEVENT
DTSTART;VALUE=DATE:20260525
SUMMARY:男の食談義　5
DESCRIPTION:川原 将裕 少年画報社
UID:9784785982058@kyohatsu.lb-product.com
END:VEVENT
END:VCALENDAR
