BEGIN:VCALENDAR
VERSION:2.0
PRODID:-//kyohatsu//JP
CALSCALE:GREGORIAN
BEGIN:VEVENT
DTSTART;VALUE=DATE:20260511
SUMMARY:自分の死に場所
DESCRIPTION:島田裕巳 白秋社
UID:9784434378546@kyohatsu.lb-product.com
END:VEVENT
END:VCALENDAR
