BEGIN:VCALENDAR
VERSION:2.0
PRODID:-//kyohatsu//JP
CALSCALE:GREGORIAN
BEGIN:VEVENT
DTSTART;VALUE=DATE:20260610
SUMMARY:改訂完全版　北の夕鶴2/3の殺人
DESCRIPTION:島田荘司 光文社
UID:9784334110345@kyohatsu.lb-product.com
END:VEVENT
END:VCALENDAR
