BEGIN:VCALENDAR
VERSION:2.0
PRODID:-//kyohatsu//JP
CALSCALE:GREGORIAN
BEGIN:VEVENT
DTSTART;VALUE=DATE:20260529
SUMMARY:吸血鬼へ嫁入る日〜少女が冷酷夫に愛された記録〜（4）
DESCRIPTION:島田 ちえ 講談社
UID:9784065434857@kyohatsu.lb-product.com
END:VEVENT
END:VCALENDAR
