BEGIN:VCALENDAR
VERSION:2.0
PRODID:-//kyohatsu//JP
CALSCALE:GREGORIAN
BEGIN:VEVENT
DTSTART;VALUE=DATE:20260617
SUMMARY:一日一生(仮)
DESCRIPTION:島津亜矢 (株)テイチクエンタテインメント
UID:4988004184734@kyohatsu.lb-product.com
END:VEVENT
END:VCALENDAR
