BEGIN:VCALENDAR
VERSION:2.0
PRODID:-//kyohatsu//JP
CALSCALE:GREGORIAN
BEGIN:VEVENT
DTSTART;VALUE=DATE:20260424
SUMMARY:ファジアーノ岡山「地熱」の奇跡 親会社なき市民クラブがどうやってJ1昇格を遂げたか
DESCRIPTION:島沢優子 竹書房
UID:9784801949249@kyohatsu.lb-product.com
END:VEVENT
END:VCALENDAR
