BEGIN:VCALENDAR
VERSION:2.0
PRODID:-//kyohatsu//JP
CALSCALE:GREGORIAN
BEGIN:VEVENT
DTSTART;VALUE=DATE:20260605
SUMMARY:坊ちゃん、困ります！　2
DESCRIPTION:峠乃あかり 芳文社
UID:9784832210325@kyohatsu.lb-product.com
END:VEVENT
END:VCALENDAR
