BEGIN:VCALENDAR
VERSION:2.0
PRODID:-//kyohatsu//JP
CALSCALE:GREGORIAN
BEGIN:VEVENT
DTSTART;VALUE=DATE:20260501
SUMMARY:若き信次郎の悩み　イタ・セクスアリス
DESCRIPTION:岸見次郎 文芸社
UID:9784286275277@kyohatsu.lb-product.com
END:VEVENT
END:VCALENDAR
