BEGIN:VCALENDAR
VERSION:2.0
PRODID:-//kyohatsu//JP
CALSCALE:GREGORIAN
BEGIN:VEVENT
DTSTART;VALUE=DATE:20260521
SUMMARY:50代からのしあわせ「ひとり旅」
DESCRIPTION:岸本葉子 佼成出版社
UID:9784333029556@kyohatsu.lb-product.com
END:VEVENT
BEGIN:VEVENT
DTSTART;VALUE=DATE:20260522
SUMMARY:おひとりシニア、かろやかに暮らす
DESCRIPTION:岸本葉子 中央公論新社
UID:9784122077911@kyohatsu.lb-product.com
END:VEVENT
END:VCALENDAR
