BEGIN:VCALENDAR
VERSION:2.0
PRODID:-//kyohatsu//JP
CALSCALE:GREGORIAN
BEGIN:VEVENT
DTSTART;VALUE=DATE:20260512
SUMMARY:91歳5ヵ月　いま想うあの人 あのこと
DESCRIPTION:岸惠子 幻冬舎
UID:9784344435582@kyohatsu.lb-product.com
END:VEVENT
END:VCALENDAR
