BEGIN:VCALENDAR
VERSION:2.0
PRODID:-//kyohatsu//JP
CALSCALE:GREGORIAN
BEGIN:VEVENT
DTSTART;VALUE=DATE:20260520
SUMMARY:ハンターガールズ！（仮）
DESCRIPTION:岩長咲耶 スターツ出版
UID:9784813782636@kyohatsu.lb-product.com
END:VEVENT
END:VCALENDAR
