BEGIN:VCALENDAR
VERSION:2.0
PRODID:-//kyohatsu//JP
CALSCALE:GREGORIAN
BEGIN:VEVENT
DTSTART;VALUE=DATE:20260728
SUMMARY:【新装版】クレバテスー魔獣の王と赤子と屍の勇者ー　13
DESCRIPTION:岩原　裕二 KADOKAWA
UID:9784048119955@kyohatsu.lb-product.com
END:VEVENT
END:VCALENDAR
