BEGIN:VCALENDAR
VERSION:2.0
PRODID:-//kyohatsu//JP
CALSCALE:GREGORIAN
BEGIN:VEVENT
DTSTART;VALUE=DATE:20260528
SUMMARY:ザ・バックラッシャー（2）
DESCRIPTION:岡田索雲 双葉社
UID:9784575862287@kyohatsu.lb-product.com
END:VEVENT
END:VCALENDAR
