BEGIN:VCALENDAR
VERSION:2.0
PRODID:-//kyohatsu//JP
CALSCALE:GREGORIAN
BEGIN:VEVENT
DTSTART;VALUE=DATE:20260512
SUMMARY:春宵十話　新装版
DESCRIPTION:岡潔 光文社
UID:9784334109974@kyohatsu.lb-product.com
END:VEVENT
END:VCALENDAR
