BEGIN:VCALENDAR
VERSION:2.0
PRODID:-//kyohatsu//JP
CALSCALE:GREGORIAN
BEGIN:VEVENT
DTSTART;VALUE=DATE:20260527
SUMMARY:【楽天ブックス限定先着特典】瞬発的に恋しよう(缶バッジ)
DESCRIPTION:岡村靖幸・中島健人 (株)ソニー・ミュージックダイレクト
UID:4547366817119@kyohatsu.lb-product.com
END:VEVENT
BEGIN:VEVENT
DTSTART;VALUE=DATE:20260527
SUMMARY:瞬発的に恋しよう (初回生産限定盤 CD＋Blu-ray)
DESCRIPTION:岡村靖幸・中島健人 (株)ソニー・ミュージックダイレクト
UID:4547366817102@kyohatsu.lb-product.com
END:VEVENT
BEGIN:VEVENT
DTSTART;VALUE=DATE:20260527
SUMMARY:【楽天ブックス限定先着特典】瞬発的に恋しよう (初回生産限定盤 CD＋Blu-ray)(缶バッジ)
DESCRIPTION:岡村靖幸・中島健人 (株)ソニー・ミュージックダイレクト
UID:2100014935201@kyohatsu.lb-product.com
END:VEVENT
END:VCALENDAR
