BEGIN:VCALENDAR
VERSION:2.0
PRODID:-//kyohatsu//JP
CALSCALE:GREGORIAN
BEGIN:VEVENT
DTSTART;VALUE=DATE:20260805
SUMMARY:盆地テクノ【BONCHI TECHNOパーカー盤(完全生産限定盤 サイズM)】
DESCRIPTION:岡崎体育 (株)ソニー・ミュージックレーベルズ
UID:4547366821451@kyohatsu.lb-product.com
END:VEVENT
BEGIN:VEVENT
DTSTART;VALUE=DATE:20260805
SUMMARY:盆地テクノ
DESCRIPTION:岡崎体育 (株)ソニー・ミュージックレーベルズ
UID:4547366821444@kyohatsu.lb-product.com
END:VEVENT
BEGIN:VEVENT
DTSTART;VALUE=DATE:20260805
SUMMARY:盆地テクノ【BONCHI TECHNOパーカー盤(完全生産限定盤 サイズXL)】
DESCRIPTION:岡崎体育 (株)ソニー・ミュージックレーベルズ
UID:4547366821468@kyohatsu.lb-product.com
END:VEVENT
END:VCALENDAR
