BEGIN:VCALENDAR
VERSION:2.0
PRODID:-//kyohatsu//JP
CALSCALE:GREGORIAN
BEGIN:VEVENT
DTSTART;VALUE=DATE:20260515
SUMMARY:いそがない冒険
DESCRIPTION:山若 将也 キツネ出版
UID:9784911559000@kyohatsu.lb-product.com
END:VEVENT
END:VCALENDAR
