BEGIN:VCALENDAR
VERSION:2.0
PRODID:-//kyohatsu//JP
CALSCALE:GREGORIAN
BEGIN:VEVENT
DTSTART;VALUE=DATE:20260529
SUMMARY:時間跳躍式完全無劣化転送装置
DESCRIPTION:山素 小学館クリエイティブ
UID:9784778034221@kyohatsu.lb-product.com
END:VEVENT
END:VCALENDAR
