BEGIN:VCALENDAR
VERSION:2.0
PRODID:-//kyohatsu//JP
CALSCALE:GREGORIAN
BEGIN:VEVENT
DTSTART;VALUE=DATE:20260609
SUMMARY:撲殺ピンク〜性犯罪者処刑人〜 （17）
DESCRIPTION:山本 晃司 日本文芸社
UID:9784537174045@kyohatsu.lb-product.com
END:VEVENT
END:VCALENDAR
