BEGIN:VCALENDAR
VERSION:2.0
PRODID:-//kyohatsu//JP
CALSCALE:GREGORIAN
BEGIN:VEVENT
DTSTART;VALUE=DATE:20260603
SUMMARY:げってん
DESCRIPTION:山平 重樹 清談社Publico
UID:9784868500070@kyohatsu.lb-product.com
END:VEVENT
END:VCALENDAR
