BEGIN:VCALENDAR
VERSION:2.0
PRODID:-//kyohatsu//JP
CALSCALE:GREGORIAN
BEGIN:VEVENT
DTSTART;VALUE=DATE:20260617
SUMMARY:三江線
DESCRIPTION:山口ひろみ (株)テイチクエンタテインメント
UID:4988004185267@kyohatsu.lb-product.com
END:VEVENT
END:VCALENDAR
