BEGIN:VCALENDAR
VERSION:2.0
PRODID:-//kyohatsu//JP
CALSCALE:GREGORIAN
BEGIN:VEVENT
DTSTART;VALUE=DATE:20260624
SUMMARY:The Koln Concert/The Koln Concert - Live at Kasumicho Ongakudo
DESCRIPTION:山口ちなみ 寺島レコード
UID:4988044138445@kyohatsu.lb-product.com
END:VEVENT
END:VCALENDAR
