BEGIN:VCALENDAR
VERSION:2.0
PRODID:-//kyohatsu//JP
CALSCALE:GREGORIAN
BEGIN:VEVENT
DTSTART;VALUE=DATE:20260509
SUMMARY:頭のいい子に育つ 0歳音読 かぞえる！
DESCRIPTION:山口 謠司 さくら舎
UID:9784865814989@kyohatsu.lb-product.com
END:VEVENT
END:VCALENDAR
