BEGIN:VCALENDAR
VERSION:2.0
PRODID:-//kyohatsu//JP
CALSCALE:GREGORIAN
BEGIN:VEVENT
DTSTART;VALUE=DATE:20260722
SUMMARY:【早期予約特典+先着特典】【クレジットカード決済限定】【シリアル対象】A (通常盤)(シリアルナンバー+内容未定)
DESCRIPTION:山内総一郎 
UID:2100014959122@kyohatsu.lb-product.com
END:VEVENT
BEGIN:VEVENT
DTSTART;VALUE=DATE:20260722
SUMMARY:【早期予約特典+先着特典】【クレジットカード決済限定】【シリアル対象】A (CD＋DVD)(シリアルナンバー+内容未定)
DESCRIPTION:山内総一郎 
UID:2100014959115@kyohatsu.lb-product.com
END:VEVENT
BEGIN:VEVENT
DTSTART;VALUE=DATE:20260722
SUMMARY:A (CD＋DVD)
DESCRIPTION:山内総一郎 エイベックス・ミュージック・クリエイティヴ(株)
UID:4945817961525@kyohatsu.lb-product.com
END:VEVENT
END:VCALENDAR
