BEGIN:VCALENDAR
VERSION:2.0
PRODID:-//kyohatsu//JP
CALSCALE:GREGORIAN
BEGIN:VEVENT
DTSTART;VALUE=DATE:20260525
SUMMARY:気持ち悪いと言ってくれ(1)
DESCRIPTION:山中灯里 一迅社
UID:9784758099011@kyohatsu.lb-product.com
END:VEVENT
END:VCALENDAR
