BEGIN:VCALENDAR
VERSION:2.0
PRODID:-//kyohatsu//JP
CALSCALE:GREGORIAN
BEGIN:VEVENT
DTSTART;VALUE=DATE:20260501
SUMMARY:謝罪文代筆　罪ある甥のために
DESCRIPTION:山中密 文芸社
UID:9784286276939@kyohatsu.lb-product.com
END:VEVENT
END:VCALENDAR
