BEGIN:VCALENDAR
VERSION:2.0
PRODID:-//kyohatsu//JP
CALSCALE:GREGORIAN
BEGIN:VEVENT
DTSTART;VALUE=DATE:20260529
SUMMARY:センセイ、魔王を殺して 5
DESCRIPTION:山下文吾 Cygames
UID:9784911567685@kyohatsu.lb-product.com
END:VEVENT
END:VCALENDAR
