BEGIN:VCALENDAR
VERSION:2.0
PRODID:-//kyohatsu//JP
CALSCALE:GREGORIAN
BEGIN:VEVENT
DTSTART;VALUE=DATE:20260526
SUMMARY:艶漢（アデカン）（21）
DESCRIPTION:尚 月地 新書館
UID:9784403624087@kyohatsu.lb-product.com
END:VEVENT
END:VCALENDAR
