BEGIN:VCALENDAR
VERSION:2.0
PRODID:-//kyohatsu//JP
CALSCALE:GREGORIAN
BEGIN:VEVENT
DTSTART;VALUE=DATE:20260520
SUMMARY:トーマス・マンと体験話法「明日はクリスマスだった」
DESCRIPTION:小黒康正　嶋崎啓　鈴木康志　古賀伊織 同学社
UID:9784810203486@kyohatsu.lb-product.com
END:VEVENT
END:VCALENDAR
