BEGIN:VCALENDAR
VERSION:2.0
PRODID:-//kyohatsu//JP
CALSCALE:GREGORIAN
BEGIN:VEVENT
DTSTART;VALUE=DATE:20260610
SUMMARY:再会
DESCRIPTION:小阪由佳 (株)ラインコミュニケーションズ
UID:4529971414303@kyohatsu.lb-product.com
END:VEVENT
END:VCALENDAR
