BEGIN:VCALENDAR
VERSION:2.0
PRODID:-//kyohatsu//JP
CALSCALE:GREGORIAN
BEGIN:VEVENT
DTSTART;VALUE=DATE:20260513
SUMMARY:片見里足立アフェクション
DESCRIPTION:小野寺 史宜 幻冬舎
UID:9784344045767@kyohatsu.lb-product.com
END:VEVENT
END:VCALENDAR
