BEGIN:VCALENDAR
VERSION:2.0
PRODID:-//kyohatsu//JP
CALSCALE:GREGORIAN
BEGIN:VEVENT
DTSTART;VALUE=DATE:20260512
SUMMARY:失踪人
DESCRIPTION:小路幸也 光文社
UID:9784334109912@kyohatsu.lb-product.com
END:VEVENT
END:VCALENDAR
