BEGIN:VCALENDAR
VERSION:2.0
PRODID:-//kyohatsu//JP
CALSCALE:GREGORIAN
BEGIN:VEVENT
DTSTART;VALUE=DATE:20260729
SUMMARY:Piercing【完全生産限定アナログ盤】
DESCRIPTION:小袋成彬 (株)ソニー・ミュージックレーベルズ
UID:4547366820737@kyohatsu.lb-product.com
END:VEVENT
END:VCALENDAR
