BEGIN:VCALENDAR
VERSION:2.0
PRODID:-//kyohatsu//JP
CALSCALE:GREGORIAN
BEGIN:VEVENT
DTSTART;VALUE=DATE:20260612
SUMMARY:家庭用安心坑夫／猿の戴冠式
DESCRIPTION:小砂川 チト 講談社
UID:9784065437650@kyohatsu.lb-product.com
END:VEVENT
END:VCALENDAR
