BEGIN:VCALENDAR
VERSION:2.0
PRODID:-//kyohatsu//JP
CALSCALE:GREGORIAN
BEGIN:VEVENT
DTSTART;VALUE=DATE:20260603
SUMMARY:昭和の母と娘たち
DESCRIPTION:小石 房子 作品社
UID:9784867931561@kyohatsu.lb-product.com
END:VEVENT
END:VCALENDAR
