BEGIN:VCALENDAR
VERSION:2.0
PRODID:-//kyohatsu//JP
CALSCALE:GREGORIAN
BEGIN:VEVENT
DTSTART;VALUE=DATE:20260525
SUMMARY:揃わない家族 2
DESCRIPTION:小田 扉 集英社クリエイティブ
UID:9784420155014@kyohatsu.lb-product.com
END:VEVENT
END:VCALENDAR
