BEGIN:VCALENDAR
VERSION:2.0
PRODID:-//kyohatsu//JP
CALSCALE:GREGORIAN
BEGIN:VEVENT
DTSTART;VALUE=DATE:20260623
SUMMARY:エージェント木星（3）
DESCRIPTION:小玉 有起 講談社
UID:9784065436950@kyohatsu.lb-product.com
END:VEVENT
END:VCALENDAR
