BEGIN:VCALENDAR
VERSION:2.0
PRODID:-//kyohatsu//JP
CALSCALE:GREGORIAN
BEGIN:VEVENT
DTSTART;VALUE=DATE:20260610
SUMMARY:横浜元町洋菓子譚 春といちごのホームメイド
DESCRIPTION:小湊 悠貴 文藝春秋
UID:9784167925215@kyohatsu.lb-product.com
END:VEVENT
END:VCALENDAR
