BEGIN:VCALENDAR
VERSION:2.0
PRODID:-//kyohatsu//JP
CALSCALE:GREGORIAN
BEGIN:VEVENT
DTSTART;VALUE=DATE:20260507
SUMMARY:書庫に水鳥がいなかった日のこと
DESCRIPTION:小津夜景 素粒社
UID:9784910413204@kyohatsu.lb-product.com
END:VEVENT
END:VCALENDAR
