BEGIN:VCALENDAR
VERSION:2.0
PRODID:-//kyohatsu//JP
CALSCALE:GREGORIAN
BEGIN:VEVENT
DTSTART;VALUE=DATE:20260528
SUMMARY:なぜ仕事ができる人はアドラー心理学を実践しているのか
DESCRIPTION:小泉健一 かや書房
UID:9784910364940@kyohatsu.lb-product.com
END:VEVENT
END:VCALENDAR
