BEGIN:VCALENDAR
VERSION:2.0
PRODID:-//kyohatsu//JP
CALSCALE:GREGORIAN
BEGIN:VEVENT
DTSTART;VALUE=DATE:20260723
SUMMARY:むしろ、映えている日々
DESCRIPTION:小林聡美 毎日新聞出版
UID:9784620328713@kyohatsu.lb-product.com
END:VEVENT
END:VCALENDAR
