BEGIN:VCALENDAR
VERSION:2.0
PRODID:-//kyohatsu//JP
CALSCALE:GREGORIAN
BEGIN:VEVENT
DTSTART;VALUE=DATE:20260520
SUMMARY:みんな、好きが下手
DESCRIPTION:小林 早代子 新潮社
UID:9784103517634@kyohatsu.lb-product.com
END:VEVENT
END:VCALENDAR
