BEGIN:VCALENDAR
VERSION:2.0
PRODID:-//kyohatsu//JP
CALSCALE:GREGORIAN
BEGIN:VEVENT
DTSTART;VALUE=DATE:20260522
SUMMARY:ラスト・ワルツ
DESCRIPTION:小手鞠　るい 平凡社
UID:9784582840032@kyohatsu.lb-product.com
END:VEVENT
END:VCALENDAR
