BEGIN:VCALENDAR
VERSION:2.0
PRODID:-//kyohatsu//JP
CALSCALE:GREGORIAN
BEGIN:VEVENT
DTSTART;VALUE=DATE:20260501
SUMMARY:マイルス・デイヴィスが語ったすべてのこと
DESCRIPTION:小川 隆夫 小学館
UID:9784094075649@kyohatsu.lb-product.com
END:VEVENT
END:VCALENDAR
