BEGIN:VCALENDAR
VERSION:2.0
PRODID:-//kyohatsu//JP
CALSCALE:GREGORIAN
BEGIN:VEVENT
DTSTART;VALUE=DATE:20260527
SUMMARY:生まれたくなんかなかったのに　それでも生きるための哲学
DESCRIPTION:小島和男 幻冬舎
UID:9784344988057@kyohatsu.lb-product.com
END:VEVENT
END:VCALENDAR
