BEGIN:VCALENDAR
VERSION:2.0
PRODID:-//kyohatsu//JP
CALSCALE:GREGORIAN
BEGIN:VEVENT
DTSTART;VALUE=DATE:20260616
SUMMARY:思想の時代は終わった
DESCRIPTION:小名木善行 青林堂
UID:9784792608026@kyohatsu.lb-product.com
END:VEVENT
END:VCALENDAR
