BEGIN:VCALENDAR
VERSION:2.0
PRODID:-//kyohatsu//JP
CALSCALE:GREGORIAN
BEGIN:VEVENT
DTSTART;VALUE=DATE:20260529
SUMMARY:日本書紀　全現代語訳＋解説＜5＞海外との往来ー緊張と受容
DESCRIPTION:寺田 惠子 グッドブックス
UID:9784907461522@kyohatsu.lb-product.com
END:VEVENT
END:VCALENDAR
