BEGIN:VCALENDAR
VERSION:2.0
PRODID:-//kyohatsu//JP
CALSCALE:GREGORIAN
BEGIN:VEVENT
DTSTART;VALUE=DATE:20260526
SUMMARY:雨が降ったら
DESCRIPTION:寺地　はるな ポプラ社
UID:9784591189870@kyohatsu.lb-product.com
END:VEVENT
END:VCALENDAR
