BEGIN:VCALENDAR
VERSION:2.0
PRODID:-//kyohatsu//JP
CALSCALE:GREGORIAN
BEGIN:VEVENT
DTSTART;VALUE=DATE:20260605
SUMMARY:ひなの花音写真集（仮）
DESCRIPTION:富田恭透 竹書房
UID:9784801949560@kyohatsu.lb-product.com
END:VEVENT
END:VCALENDAR
