BEGIN:VCALENDAR
VERSION:2.0
PRODID:-//kyohatsu//JP
CALSCALE:GREGORIAN
BEGIN:VEVENT
DTSTART;VALUE=DATE:20260612
SUMMARY:灰かぶりおじさんと猫王子　1
DESCRIPTION:家守純生 イースト・プレス
UID:9784781625621@kyohatsu.lb-product.com
END:VEVENT
END:VCALENDAR
